Workbook
Name Text170: 'Budget Documents Checklist'!$A$3
Name Text170: 'Local Match ID'!$A$3

Sheet Budget Documents Checklist
A1: BUDGET DOCUMENTS CHECKLIST
A4: Legal Name of Applicant
A6: Doing Business As (if applicable)
A8: Program (e.g., 5311, SMTF, 5310)
A10: State Fiscal Year
A13: Budget Documentation | F13: Completed | H13: Not Applicable
A15: Salary Wage Detail Sheets
A17: Budget Line Items
A19: Budget Summary
A21: Capital Needs Justification
A23: Local Match Identification
A25: Indirect Cost Worksheet*
A27: Common Cost Distribution*
A29: Five-Year Funding Projection
A31: * If applicable
A33: BUDGET PREPARATION:
A34: Budget Prepared by:
F35: Name | J35: Date
A37: BUDGET APPROVAL:
A38: By approving this budget, you are confirming that you have reviewed and concur with the information contained within and offering to enter into a contract with the Office of Public Transit.
A42: Budget Approved by:
F43: Name | J43: Date

Sheet Budget Line Items
A2: AGENCY:
A3: CONTRACT PERIOD:
A6: Administrative Charges (up to 80% Federal Share)
A7: Line# | B7: Scope | C7: ALI Codes | D7: Line Item(s) | F7: Yearly Budgeted Amount | G7: Federal Share of Line Item | H7: SMTF Share of Line Item | I7: Local Share of Line Item
D8: Other Salaries & Wages (calculates from Salary Wage Detail) | F8: =SUM('Salary - Wage Detail'!H28) -> 0 | G8: =SUM('Salary - Wage Detail'!L28) -> 0 | H8: =SUM('Salary - Wage Detail'!M28) -> 0 | I8: =SUM('Salary - Wage Detail'!N28) -> 0
D9: Fringe Benefits (calculates from Salary Wage Detail) | F9: =SUM('Salary - Wage Detail'!I29) -> 0 | G9: =SUM('Salary - Wage Detail'!O29) -> 0 | H9: =SUM('Salary - Wage Detail'!P29) -> 0 | I9: =SUM('Salary - Wage Detail'!Q29) -> 0
D10: Management Service Fees (LIST BELOW FOR TOTAL) | F10: =SUM(F11:F14) -> 0 | G10: =SUM(G11:G14) -> 0 | H10: =SUM(H11:H14) -> 0 | I10: =SUM(I11:I14) -> 0
D11: A.
D12: B.
D13: C.
D14: D.
D15: Advertising Fees | G15: =F15*80% -> 0 | H15: =F15*10% -> 0 | I15: =F15*10% -> 0
D16: Professional & Technical Service (LIST BELOW FOR TOTAL) | F16: =SUM(F17:F20) -> 0 | G16: =SUM(G17:G20) -> 0 | H16: =SUM(H17:H20) -> 0 | I16: =SUM(I17:I20) -> 0
D17: A. | E17: Accounting | G17: =F17*80% -> 0 | H17: =F17*10% -> 0 | I17: =F17*10% -> 0
D18: B. | E18: Legal | G18: =F18*80% -> 0 | H18: =F18*10% -> 0 | I18: =F18*10% -> 0
D19: C. | E19: Other | G19: =F19*80% -> 0 | H19: =F19*10% -> 0 | I19: =F19*10% -> 0
D20: D.
D21: Contract Maintenance Service (LIST BELOW FOR TOTAL) | G21: =SUM(G22:G25) -> 0 | H21: =SUM(H22:H25) -> 0 | I21: =SUM(I22:I25) -> 0
D22: A. | E22: Computer maintenance | G22: =F22*80% -> 0 | H22: =F22*10% -> 0 | I22: =F22*10% -> 0
D23: B.
D24: C.
D25: D.
D26: Custodial Services | G26: =F26*80% -> 0 | H26: =F26*15% -> 0 | I26: =F26*5% -> 0
D27: Other Services (LIST BELOW FOR TOTAL) | F27: =SUM(F28:F31) -> 0 | G27: =SUM(G28:G31) -> 0 | H27: =SUM(H28:H31) -> 0 | I27: =SUM(I28:I31) -> 0
D28: A.
D29: B.
D30: C.
D31: D.
D32: Materials and Supplies (LIST BELOW FOR TOTAL) | F32: =SUM(F33:F36) -> 0 | G32: =F32*80% -> 0 | H32: =F32*10% -> 0 | I32: =F32*10% -> 0
D33: A. | E33: Office & Janitorial supplies | G33: =F33*80% -> 0 | H33: =F33*13% -> 0
D34: B.
D35: C.
D36: D.
D37: Utilities | G37: =F37*80% -> 0 | H37: =F37*0.05 -> 0 | I37: =F37*0.15 -> 0
D38: Casualty & Liability | G38: =F38*80% -> 0 | H38: =F38*10% -> 0 | I38: =F38*10% -> 0
D39: Dues & Subscriptions | G39: =F39*80% -> 0
C40: 509.02(a) | D40: In-State Travel & Meetings | G40: =F40*80% -> 0 | H40: =F40*10% -> 0 | I40: =F40*10% -> 0
C41: 509.02(b) | D41: Out-of-State Travel & Meetings | G41: =F41*80% -> 0 | H41: =F41*10% -> 0 | I41: =F41*10% -> 0
D42: Bridge,Tunnel and Highway Tolls | G42: =F42*80% -> 0 | H42: =F42*10% -> 0 | I42: =F42*10% -> 0
D43: Advertising & Promotion Media | G43: =F43*80% -> 0 | H43: =F43*10% -> 0 | I43: =F43*10% -> 0
...

Sheet Salary - Wage Detail
A1: LIST ONLY THE POSITIONS THAT SUPPORT GENERAL PUBLIC TRANSIT SERVICES FOR YOUR AGENCY AND THE PERCENTAGE OF TIME THE EMPLOYEE SPENDS ON PUBLIC TRANSIT DUTIES (NOT OTHER HUMAN SERVICE, ETC. TRANSPORTATION)
A2: ONLY LIST THE POSITIONS THAT YOU ARE REQUESTING FUNDING FOR IN THIS BUDGET
A3: ADMINISTRATION
A5: Position Title | B5: No. | C5: ANNUAL | H5: Budgeted Amount Allocated to This Project | L5: SALARY / WAGES | O5: FRINGE BENEFITS
C6: SALARY / WAGES | D6: FRINGE BENEFITS | E6: Pct. (%) for PUBLIC Transit | H6: SALARY / WAGES | I6: FRINGE BENEFITS | L6: Federal Share of Line Item | M6: SMTF Share of Line Item | N6: Local Share of Line Item | O6: Federal Share of Line Item | P6: SMTF Share of Line Item | Q6: Local Share of Line Item
A7: DIRECT CHARGE
A8: Example: Executive Director | H8: =C8*E8 -> 0 | L8: =H8*0.8 -> 0 | M8: =H8*0.1 -> 0 | N8: =H8*0.1 -> 0
I9: =D9*E9 -> 0 | O9: =I9*0.8 -> 0 | P9: =I9*0.1 -> 0 | Q9: =I9*0.1 -> 0
A11: Transportation Director | H11: =C11*E11 -> 0 | L11: =H11*0.8 -> 0 | M11: =H11*0.1 -> 0 | N11: =H11*0.1 -> 0
I12: =D12*E12 -> 0 | O12: =I12*0.8 -> 0 | P12: =I12*0.1 -> 0 | Q12: =I12*0.1 -> 0
A13: Sr. Dispatcher | H13: =C13*E13 -> 0 | L13: =H13*0.8 -> 0 | M13: =H13*0.05 -> 0 | N13: =H13*0.15 -> 0
I14: =D14*E14 -> 0 | O14: =I14*0.8 -> 0 | P14: =I14*0.05 -> 0 | Q14: =I14*0.15 -> 0
A15: Dispatcher | H15: =C15*E15 -> 0 | L15: =H15*0.8 -> 0 | M15: =H15*0.1 -> 0 | N15: =H15*0.1 -> 0
I16: =D16*E16 -> 0 | O16: =I16*0.8 -> 0 | P16: =I16*0.1 -> 0 | Q16: =I16*0.1 -> 0
A17: Executive Director | H17: =C17*E17 -> 0 | L17: =H17*0.8 -> 0 | M17: =H17*0.05 -> 0 | N17: =H17*0.15 -> 0
I18: =D18*E18 -> 0 | O18: =I18*0.8 -> 0 | P18: =I18*0.05 -> 0 | Q18: =I18*0.15 -> 0
A19: Fleet Maintenance Manager | H19: =C19*E19 -> 0 | L19: =H19*0.8 -> 0 | M19: =H19*0.05 -> 0 | N19: =H19*0.15 -> 0
I20: =D20*E20 -> 0 | O20: =I20*0.8 -> 0 | P20: =I20*0.05 -> 0 | Q20: =I20*0.15 -> 0
A21: Admn Assist | H21: =C21*E21 -> 0 | L21: =H21*0.8 -> 0 | M21: =H21*0.05 -> 0 | N21: =H21*0.15 -> 0
I22: =D22*E22 -> 0 | O22: =I22*0.8 -> 0 | P22: =I22*0.05 -> 0 | Q22: =I22*0.15 -> 0
A23: Custodian | H23: =C23*E23 -> 0 | L23: =H23*0.8 -> 0 | M23: =H23*0.05 -> 0 | N23: =H23*0.15 -> 0
I24: =D24*E24 -> 0 | O24: =I24*0.8 -> 0 | P24: =I24*0.05 -> 0 | Q24: =I24*0.15 -> 0
H25: =C25*E25 -> 0
I26: =D26*E26 -> 0
A28: TOTAL SALARY & WAGES | H28: =SUM(H9:H26) -> 0 | L28: =SUM(L11:L26) -> 0 | M28: =SUM(M11:M26) -> 0 | N28: =SUM(N11:N26) -> 0
A29: TOTAL FRINGE BENEFITS | I29: =SUM(I12:J26) -> 0 | O29: =SUM(O11:O27) -> 0 | P29: =SUM(P11:P27) -> 0 | Q29: =SUM(Q11:Q27) -> 0
A30: POSITIONS & FRINGE CHARGED TO INDIRECT COST Complete this portion if using Indirect Cost in the budget - also must complete Indirect Cost Worksheet
A39: TOTALS | C39: =SUM(C34:C38) -> 0 | D39: =SUM(D34:D38) -> 0 | J39: =SUM(J34:J38) -> 0
A41: LIST ONLY THE POSITIONS THAT SUPPORT GENERAL PUBLIC TRANSIT SERVICES FOR YOUR AGENCY AND THE PERCENTAGE OF TIME THE EMPLOYEE SPENDS ON PUBLIC TRANSIT DUTIES (NOT OTHER HUMAN SERVICE, ETC. TRANSPORTATION)
A42: ONLY LIST THE POSITIONS THAT YOU ARE REQUESTING FUNDING FOR IN THIS BUDGET
A43: OPERATIONS
A45: Position Title | B45: No. | C45: ANNUAL | H45: Budgeted Amount Allocated to This Project | L45: SALARY / WAGES | O45: FRINGE BENEFITS
C46: SALARY / WAGES | D46: FRINGE BENEFITS | E46: Pct. (%) for PUBLIC Transit | H46: SALARY / WAGES | I46: FRINGE BENEFITS | L46: Federal Share of Line Item | M46: SMTF Share of Line Item | N46: Local Share of Line Item | O46: Federal Share of Line Item | P46: SMTF Share of Line Item | Q46: Local Share of Line Item
A47: DIRECT CHARGE
A48: EXAMPLE: DRIVERS - dedicated route | H48: =C48*E48 -> 0 | L48: =H48*0.8 -> 0 | M48: =H48*0.1 -> 0 | N48: =H48*0.1 -> 0
I49: =D49*E49 -> 0 | O49: =I49*0.8 -> 0 | P49: =I49*0.1 -> 0 | Q49: =I49*0.1 -> 0
A51: Drivers | H51: =C51*E51 -> 0 | L51: =H51*0.8 -> 0 | M51: =H51*0.1 -> 0 | N51: =H51*0.1 -> 0
I52: =D52*E52 -> 0 | O52: =I52*0.8 -> 0 | P52: =I52*0.1 -> 0 | Q52: =I52*0.1 -> 0
H53: =C53*E53 -> 0
I54: =D54*E54 -> 0
...

Sheet Capital Needs
B1: CAPITAL NEEDS
B4: In the chart below, list and provide narrative justification for all capital requests listed in your budget (not PM):
B5: Vehicle purchases under 5311 should be limited to Non-Revenue vehicles.
C7: Expansion | D7: Narrative Justification
C8: or | D8: 1) If replacing vheicle please state the following for the vehicle you want to replace:
B9: Capital Item | C9: Replacement | D9: Vehicle Type, VIN, Mileage and Year
D10: 2) Briefly describe the need for the requested capital item
A11: 3)
A15: 7)
A17: 8)

Sheet 5-Year Funding Projection
A1: PROGRAM FIVE-YEAR FUNDING PROJECTIONS (Start with state fiscal year of application)
B2: SFY | D2: SFY | F2: SFY | H2: SFY | J2: SFY
B3: 2026-2027 | D3: 2027-2028 | F3: 2028-2029 | H3: 2029-2030 | J3: 2030-2031
A4: Administration
A6: Operations
A8: ADA Capital
A10: Other Capital
A12: Planning/Technical Assistance
A15: TOTAL | B15: =SUM(B12,B8,B6,B4) -> 0 | D15: =SUM(D12,D8,D6,D4) -> 0 | F15: =SUM(F12,F8,F6,F4) -> 0 | H15: =SUM(H12,H8,H6,H4) -> 0 | J15: =SUM(J12,J8,J6,J4) -> 0

Sheet Budget Summary
A2: Subrecipient's Name:
E4: SFY:
F5: BUDGET SUMMARY
C8: Section 5311 - Rural Transit Program | H8: CFDA# 20.509
B10: FEDERAL PROGRAM MAXIMUM PERCENTAGE OF FEDERAL PARTICIPATION:
B11: ADA Capital
B12: Project Administration, Other Capital, Technical Assistance
B13: Operating Assistance
B15: Adjust federal and state shares if needed, not to exceed the amount suballocated to your agency in the Announcement Notice
G16: SCDOT | I16: SCDOT
E17: Estimated Total | F17: Federal | G17: Share | H17: Estimated | I17: Contract Amount
D18: %Admin | E18: Project | F18: Share | G18: (SMTF) | H18: Local Share | I18: (Fed 5311 + SMTF)
B19: Administration | D19: =SUM(F19)/(F29) -> #DIV/0! | E19: =SUM('Budget Line Items'!F55) -> 0 | F19: =SUM('Budget Line Items'!G55) -> 0 | G19: =SUM('Budget Line Items'!H55) -> 0 | H19: =SUM('Budget Line Items'!I55) -> 0 | I19: =SUM(F19:G19) -> 0
B21: Operations | E21: =SUM('Budget Line Items'!F106) -> 0 | F21: =SUM('Budget Line Items'!G106) -> 0 | G21: =SUM('Budget Line Items'!H106) -> 0 | H21: =SUM('Budget Line Items'!I106) -> 0 | I21: =SUM(F21:G21) -> 0
B23: ADA Capital | E23: =SUM('Budget Line Items'!F133) -> 0 | F23: =SUM('Budget Line Items'!G133) -> 0 | G23: =SUM('Budget Line Items'!H133) -> 0 | H23: =SUM('Budget Line Items'!I133) -> 0 | I23: =SUM(F23:G23) -> 0
B25: Other Capital | E25: =SUM('Budget Line Items'!F180) -> 0 | F25: =SUM('Budget Line Items'!G180) -> 0 | G25: =SUM('Budget Line Items'!H180) -> 0 | H25: =SUM('Budget Line Items'!I180) -> 0 | I25: =SUM(F25:G25) -> 0
F26: .
B27: Planning/Tech Asst. | E27: =SUM('Budget Line Items'!F230) -> 0 | F27: =SUM('Budget Line Items'!G230) -> 0 | G27: =SUM('Budget Line Items'!H230) -> 0 | H27: =SUM('Budget Line Items'!I230) -> 0 | I27: =SUM(F27:G27) -> 0
B29: NET CONTRACT REVENUE | E29: =SUM(E19+E21+E23+E25+E27) -> 0 | F29: =SUM(F19:F27) -> 0 | G29: =SUM(G19:G27) -> 0 | H29: =SUM(H19:H27) -> 0 | I29: =SUM(F29:G29) -> 0 | J29: NET CONTRACT REVENUE
B30: PLUS SCHEDULED PAYBACK (scheduled payback for this SFY)
B31: GROSS CONTRACT REVENUE (Net Contract Revenue + Scheduled Payback Amount) | F31: =SUM(F29:F30) -> 0 | G31: =SUM(G29:G30) -> 0 | I31: =SUM(F31:G31) -> 0 | J31: GROSS CONTRACT REVENUE
B34: Estimated Project Cost
B35: NET REVENUE Federal Share | F35: =SUM(F29) -> 0
B36: NET REVENUE SCDOT Share (SMTF) | F36: =SUM(G29) -> 0
B37: Total Scheduled Payback | F37: =SUM(F30:G30) -> 0 | G37: Refer to allocation notice
B39: GROSS Contract Revenue | F39: =SUM(F36)+F35+F37 -> 0 | G39: Record as Contract Revenue
B41: Less Scheduled Payback | G41: Refer to allocation notice
B42: NET Contract Revenue | F42: =SUM(F39)-F41 -> 0 | G42: Gross Contract Revenue (Less scheduled Payback)
B43: Total Local Match | F43: =SUM(H29) -> 0
B45: Estimated Total Project | F45: =SUM(F42:F43) -> 0 | G45: Federal Share + SCDOT Share (SMTF) + Total Local Match

Sheet Local Match ID
A1: LOCAL MATCH IDENTIFICATION FOR FTA PROGRAM FUNDING
A4: Legal Name of Applicant
A6: Program (e.g., 5311, SMTF, 5310)
A8: State Fiscal Year
A10: Eligible Expense | E10: Total Amount | G10: Federal Share | I10: SCDOT Share | K10: Estimated Local Share
A12: Administration | E12: =SUM('Budget Summary'!E19) -> 0 | G12: =SUM('Budget Summary'!F19) -> 0 | I12: =SUM('Budget Summary'!G19) -> 0 | K12: =SUM('Budget Summary'!H19) -> 0
A14: Operations | E14: =SUM('Budget Summary'!E21) -> 0 | G14: =SUM('Budget Summary'!F21) -> 0 | I14: =SUM('Budget Summary'!G21) -> 0 | K14: =SUM('Budget Summary'!H21) -> 0
A16: ADA Capital (85% Federal) | E16: =SUM('Budget Summary'!E23) -> 0 | G16: =SUM('Budget Summary'!F23) -> 0 | I16: =SUM('Budget Summary'!G23) -> 0 | K16: =SUM('Budget Summary'!H23) -> 0
A18: Other Capital (80% Federal) | E18: =SUM('Budget Summary'!E25) -> 0 | G18: =SUM('Budget Summary'!F25) -> 0 | I18: =SUM('Budget Summary'!G25) -> 0 | K18: =SUM('Budget Summary'!H25) -> 0
G19: .
A20: Planning & Technical Assistance | E20: =SUM('Budget Summary'!E27) -> 0 | G20: =SUM('Budget Summary'!F27) -> 0 | I20: =SUM('Budget Summary'!G27) -> 0 | K20: =SUM('Budget Summary'!I27) -> 0
A24: TOTAL | E24: =SUM(E12,E14,E16,E18,E20) -> 0 | G24: =SUM(G12,G14,G16,G18,G20) -> 0 | I24: =SUM(I12,I14,I16,I18,I20) -> 0 | K24: =SUM(K12+K14+K16+K18+K20) -> 0
A26: The estimated total Local Match will be available from the following sources*:
A28: Source of Local Share | F28: Amount for Local Match | J28: Estimated Date of Availability
A40: TOTAL | F40: =SUM(F30+F32+F34+F36+F38) -> 0
A42: *Examples of Local Match include: 1. Other Federal NON-DOT funds if the administering agency makes the funds available for transportation purposes; 2. State or local appropriation; 3. Private donations; and 4. Net income generated from advertising and concessions. Local Match does NOT include: 1. Cash from fares; 2. Other FTA federal funds; 3. Volunteer services.

Sheet Common Cost Worksheet
A1: IF YOU PROGRAM COMMON COSTS IN YOUR APPLICATION BUDGET YOU MUST COMPLETE THIS SECTION
A2: COMMON COST DISTRIBUTION METHODOLOGY:
A4: 1) | B4: Does your agency provide other transportation services or programs other than general public transportation?
B5: Yes | C5: x | D5: No
A7: 2) | B7: Does your agency have a reasonable methodology for distributing common cost?
B8: Yes | C8: x | D8: No
A10: 3) | B10: What year / time period is your program cost allocation methodology based on for this budget?
D11: Year-end:
A13: 4) | B13: List all transportation services or programs provided and identify the base (s) for distributing transportation program costs. For example: passenger miles, passenger trips, service hours, etc.
C15: Service / Program Provided | H15: Estimated Current Year Bases | K15: Expense Category
H16: Passenger miles | I16: Passenger trips | J16: Service hours
B17: a | C17: SC 5311 | H17: =60201*2 -> 120402 | I17: =4738*2 -> 9476 | K17: Ops
B18: b | C18: Title XIX (Medicare) | H18: =97781*2 -> 195562 | I18: =7528*2 -> 15056 | J18: =4992*2 -> 9984 | K18: Ops
B19: c | C19: Urban 5310 | H19: =11674*2 -> 23348 | I19: =921*2 -> 1842 | J19: =643*2 -> 1286 | K19: Ops
B20: d | C20: Dial A Ride | H20: =25367*2 -> 50734 | I20: =2545*2 -> 5090 | J20: =1555*2 -> 3110 | K20: Ops
B21: e
F22: Totals Units | H22: =SUM(H17:H21) -> 390046 | I22: =SUM(I17:I21) -> 31464 | J22: =SUM(J17:J21) -> 14380
B25: OPERATING
C26: Show the program common cost allocation calculation for this budget. Show the base for distribution, percent of distribution for this program and the budgeted Operating Transportation Common Cost Expense.
B27: Single Bases
C28: Program Units | F28: Total Units
E29: ÷ | G29: = | H29: =C29/F29 -> #DIV/0! | I29: × | K29: = | L29: =H29*J29 -> #DIV/0!
C30: Program Base1 | F30: Total Base 1 | H30: Program Percentage | J30: Budgeted Common Cost
E31: ÷ | G31: = | H31: =C31/F31 -> #DIV/0! | I31: × | K31: = | L31: =H31*J31 -> #DIV/0!
C32: Program Base 2 | F32: Total Base 2 | H32: Program Percentage | J32: Budgeted Common Cost
E33: ÷ | G33: = | H33: =C33/F33 -> #DIV/0! | I33: × | K33: = | L33: =H33*J33 -> #DIV/0!
C34: Program Base 3 | F34: Total Base 3 | H34: Program Percentage | J34: Budgeted Common Cost
L35: =SUM(L29:L33) -> #DIV/0!
B36: Average Dual Bases
E38: ÷ | G38: = | H38: =C38/F38 -> #DIV/0!
C39: Amount of Program Base 1 | F39: Total Base 1 | H39: Base 1 Percentage
E40: ÷ | G40: = | H40: =C40/F40 -> #DIV/0!
C41: Amount of Program Base 2 | F41: Total Base 2 | H41: Base 2 Percentage
H42: =(+H38+H40)/2 -> #DIV/0! | I42: x | K42: = | L42: =H42*J42 -> #DIV/0!
H43: Averaged Percentages | J43: Budgeted Common Cost
L44: =+L35+L42 -> #DIV/0! | M44: *
C45: *The yearly budgeted amount of eligible maximum Transportation Common Cost allowed for Code 509. A on the Operating Budget.
B46: CAPITAL
C47: Show the program common cost allocation calculation for this budget. Show the base for distribution, percent of distribution for this program and the budgeted Capital Transportation Common Cost Expense.
B48: Single Bases
...

Sheet Indrect Cost Worksheet
A1: IF YOU PROGRAM INDIRECT COSTS ON YOUR APPLICATION BUDGET YOU MUST COMPLETE THIS SECTION
A2: INDIRECT COST RATE
A4: 1) | B4: Does your agency program for Indirect Costs?
B5: Yes | D5: No
A7: 2) | B7: Does your agency have a Cost Allocation Plan/Indirect Cost Rate approved by your cognizant agency in compliance with applicable cost principles? (2CFR Part 200, Subpart E)
B8: Yes | D8: No
B9: If NO, YOUR AGENCY CANNOT PROGRAM INDIRECT EXPENSES.
B10: If yes:
A12: Cognizant Agency:
A14: Latest Plan Approval Date:
B15: PROVIDE COPY OF THE MOST RECENTLY APPROVED CERTIFICATE OF COST / CERTIFICATE OF INDIRECT COST
E17: Approved Indirect Cost Rate:
B19: Current Allowable Indirect Cost Rate:
B21: Your annual time period is based on what current Indirect Cost Rate? :
A23: 3) | B23: Provide written narrative for the approved base of distribution.
B24: Example: Salaries or (Salaries + Fringe ) / Modified Total Direct Cost or (Direct Salary + Fringe) etc.
A30: 4) | B30: Identify the approved base used to calculate the dollar amount of Indirect Costs for this contract budget period:
B31: Example: Modified Total Direct Cost, Direct Salaries, (Direct Salaries + Fringe) etc.
A36: 5) | B36: Indirect Cost Allocation - Administrative Charges | N36: NNNNNNNNNNNNNNNNNNNNNNNNNNNNNNNNNNNNNNNNNNNNNNNNNNNNNNNNNNNNNNNNNNNNNNNNNNNNNNNNNNNNNNNNNNNNNNNNNNNNNNNNNNNNNNNNNNNNNNNNNNNNNNNNNNNNNNNNNNNNNNNNNNNNNNNNN
B37: Show mathematical calculation for requested indirect expense using the approved base of distribution.
D39: ÷ | G39: = | H39: =B38/E38 -> #DIV/0!
B40: (Show calculation based on item 3 narrative.)
B41: =B38/E38 -> #DIV/0! | H41: =B41*E41 -> #DIV/0!
D42: × | G42: = | J42: *
B43: Indirect Cost Rate | E43: (Show base for item 4 narrative)
B45: *Represents the yearly budgeted amount of eligible maximum Indirect Cost allowed for Code 509.99 A on the Administrative Budget.
A47: 6) | B47: Indirect Cost Allocation - Planning Charges | N47: NNNNNNNNNNNNNNNNNNNNNNNNNNNNNNNNNNNNNNNNNNNNNNNNNNNNNNNNNNNNNNNNNNNNNNNNNNNNNNNNNNNNNNNNNNNNNNNNNNNNNNNNNNNNNNNNNNNNNNNNNNNNNNNNNNNNNNNNNNNNNNNNNNNNNNNNN
B48: Show mathematical calculation for requested indirect expense using the approved base of distribution.
D50: ÷ | G50: = | H50: =B49/E49 -> #DIV/0!
B51: (Show calculation based on item 3 narrative.)
B52: =B49/E49 -> #DIV/0! | H52: =B52*E52 -> #DIV/0!
D53: × | G53: = | J53: *
B54: Indirect Cost Rate | E54: (Show base for item 4 narrative)
B56: * Represents the yearly budgeted amount of eligible maximum Indirect Cost allowed for Code 41.20.08 Planning Budget.
