Workbook
Name NBIRating113: #REF!
Name NBIRating585960: #REF!
Name NBIRating62: #REF!
Name RatingMethod: #REF!
Name RatingProgram: #REF!

Sheet Category C POA Form
C1: PLAN OF ACTION
C2: CATEGORY C
I3: Version 2026-09-19 | N3: = Key In Data
A4: SECTION 1 - GENERAL INFORMATION
A5: Asset ID Number: | B5: County: | C5: Bridge Structure Number: | E5: Stream Crossing: | G5: Facility Carried: | H5: Region: | I5: Road Class: | J5: Structure Type: | N5: = Drop Down Box
A7: District: | B7: Year Built: | C7: Latitude: | E7: Longitude: | G7: Foundations (Known/Unknown): | I7: Foundation Type: | N7: = Calculated Results
A9: Owner: | C9: Hydraulic Contextual Risk Type: | E9: Span Arrangement: | G9: Milepoint: | H9: Bridge ADT: | I9: Year of ADT: | J9: % Trucks | N9: = Automatically Populated
A11: SECTION 2 - NBIS CODING AND SCOUR HISTORY
A12: NBIS Coding Information
A13: Item B.AP.03 - Scour Vulnerability: | F13: Item B.IE.03 - Last Inspection Date:
F14: Item B.IR.03 - Underwater Inspection Required?
A15: Source of Item B.AP.03 Rating: | F15: Item B.PS.01 - Load Posting Status:
F16: Item B.C.03 - Substructure Condition Rating:
F17: Item B.C.09 - Channel Condition Rating:
F18: Item B.AP.02 - Overtopping Likelihood:
A19: Scour Summary
A20: Document scour critical concerns creating the need for this POA. For scour history, see the Bridge File or BridgeWatch.
A23: Critical Tapedowns
A24: Enter critical tapedowns at CRITICAL INTERIOR BENTS ONLY for multispan structures with a Scour Assessment. Leave blank for single span bridges or bridges with unknown foundations. Lines may be inserted as needed.
A25: Bent No. | B25: Bent Location (Ex. "R. Overbank") | E25: Benchmark Location (Ex. "Top of Guardrail") | G25: Benchmark Elevation (ft., NAVD88) | I25: Tapedown Measurement (ft.)
A31: SECTION 3 - FLOOD MONITORING
A32: Monitoring Information
A33: Monitoring Type: (Check all that apply) | F33: Real Time Scour Monitoring: | H33: =IF($A$6="","",IF(COUNTIF('Real-Time Monitoring List'!$I$3:$I$30,'Category C POA Form'!A6),"Yes","No"))
F34: Initial Visit: | H34: See POAGM Section 4.4 & FMGM Section 7
F35: Interval: | H35: See POAGM Section 4.4 & FMGM Section 7
A36: See BridgeWatch for riverine, rainfall and tidal triggers and thresholds. A BridgeWatch ticket must be opened for each bridge with a threshold alert. A BridgeWatch Monitoring Form must be filled out each time monitoring is conducted at the bridge.
C37: South Carolina Monitoring Locations (USGS Site): | D37: https://waterdata.usgs.gov/state/south-carolina/#dataCollectionDuration=P120D&dataTypes=00060,00065,72137,72335,00062,62615,63160,72330
C38: Real-Time Monitoring Instrument Locations (USGS Site): | D38: https://sc.water.usgs.gov/bridgescour/index.php
C39: HIVIS (USGS Site): | D39: https://apps.usgs.gov/hivis/?state=SC
C40: South Atlantic Water Science Center Webcams (USGS Site): | D40: https://www.usgs.gov/centers/sawsc/science/river-webcams-south-atlantic-water-science-center-georgia-north-and-south
A41: Monitoring Items to Watch
A42: Visual Items to Watch | F42: Instrumental Items to Watch
A43: • High velocity flow impinging directly on abutments on embankments • Visible damage to the bridge deck, low chord, or substructure • Observed structure movement / Settlement • Overtopping road or structure • Pressure flow conditions • Debris accumulations • Water surface elevation (including whether rising or receding) • Abutment armor (riprap or gabion) failure • Site observations from SCDOT or reports from others | F43: • Streamflow (if available) – use AEP with USGS gage statistics • Stage or Profile Elevations (if available) – includes water surface elevations for flood, pressure and overtopping flows • Tidal Surge (if available) – use AEP with USACE stillwater or NOAA tidal data • Readings from fixed scour monitoring system on the bridge (sonar, webcam, water stage) • Scour measurement results (i.e. Critical Tapedown reached) / Monitoring device • Rainfall intensity – use AEP and percent basin coverage for 24 hour period
A50: SECTION 4 - SCOUR INSPECTIONS
A51: Inspection Items to Watch
A52: • Alert (warning) and critical elevations at each scour critical pier and abutment referenced to a measurable datum • Type(s) and extent of existing scour countermeasures (designed and non-designed) • Embankment erosion or migration • High velocity flow impinging directly on abutments on embankments • Visible damage to the bridge deck, low chord, or substructure • Scour measurement results (i.e. Critical Tapedown reached) / Monitoring device | F52: • Observed structure movement / Settlement • Overtopping road or structure • Pressure flow conditions • Debris accumulations • Water surface elevation (including whether rising or receding) • Abutment armor (riprap or gabion) failure
F56: Time to Inspection after event ends | H56: See POAGM Section 4.5 & FMGM Section 7
A57: SECTION 5 - BRIDGE-SIZE STRUCTURE CLOSURE PLAN and DETOUR ROUTE
A58: Closure Plan
A59: See sections 3 and 4 of this form for potential bridge closure justifications and the POAGM sections 4 and 5 for additional guidance. Use engineering judgment when determining the need for a bridge closure. Follow the BIGD for closure and reopening procedures and the POAGM for other actions. Complete a BridgeWatch Closure Ticket for each bridge closure and reopening.
...

Sheet Category C Instructions
A1: CATEGORY C PLAN OF ACTION - INSTRUCTIONS
A4: *To Clear Out contents of cells with dropdown menus, select the cell, and then press DELETE*
A5: *See Sections 3 and 4 in the SCDOT POA Guidance Manual for general information on preparing a Plan of Action*
A6: All values filled in automatically should be evaluated by the preparer for accuracy against other available documentation, particularly in the General Information section.
A7: Field Name | B7: Description
A8: SECTION 1 | B8: General Information
A9: Asset ID Number | B9: Enter the 5 digit Asset ID specific to the bridge.
A10: County | B10: Provide the county where bridge is located.
A11: Bridge Structure Number | B11: Enter the structure number specific to the bridge.
A12: Stream Crossing | B12: Provide the name of the watercourse that the bridge crosses.
A13: Region | B13: Select the physiographic region from the drop down menu.
A14: Road Class | B14: Select the applicable road class from the dropdown menu. If the structure carries either a county road (C-) or a local road (L-) select "L-" from the menu.
A15: Facility Carried | B15: Provide the route/road designation of the road that is carried by the bridge. (Ex. I-95, US 21, S-9-31)
A16: Structure Type | B16: Enter "Bridge" or "Culvert" according to the type of the structure.
A17: District | B17: Enter the number of the Inspection District where the bridge is located (Ex. 1)
A18: Owner | B18: Provide the name of the bridge owner (Ex. SCDOT, Spartanburg County)
... A58: SECTION 6 | B58: Countermeasure Recommendations
A59: Not Applicable for bridges in Category C.
A60: SECTION 7 | B60: Attachments
A61: Attachment A | B61: Select "X" (if included) or leave blank (if not Included) from the drop down menu to indicate if respective attachment is provided. Include the name of each attachment.
A62: Attachment B | B62: Select "X" (if included) or leave blank (if not Included) from the drop down menu to indicate if respective attachment is provided. Include the name of each attachment.
A63: Attachment C | B63: Select "X" (if included) or leave blank (if not Included) from the drop down menu to indicate if respective attachment is provided. Include the name of each attachment.
A64: SECTION 8 | B64: Remarks
A65: Inspector Comments | B65: Make any relevant additional comments pertaining to observations and historical flood information, especially that which is considered in determination of any previously defined triggers
A66: SECTION 9 | B66: Points of Contact
A67: Monitoring | B67: BridgeWatch will alert monitoring personnel. No action needed by preparer.
A68: Bridge Closure | B68: Points of Contact will be autopopulated in this section
A69: SECTION 10 | B69: Hydraulic and Quality Control Engineers
A70: Hydraulic and Quality Control Engineers | B70: Provide name, company, title and date of review of Hydraulic Engineering preparer and Quality Control Engineer.

Sheet Real-Time Monitoring List
B2: No. | C2: Route | D2: Crossing | E2: USGS Site Number | F2: URL | G2: Instrument Type | H2: SCDOT Structure Number | I2: Asset ID
B3: 1 | C3: I-526 | D3: Wando River | E3: 21720698 | F3: =HYPERLINK("https://waterdata.usgs.gov/monitoring-location/USGS-0"&E3) -> https://waterdata.usgs.gov/monitoring-location/USGS-021720698 | G3: Camera, streambed sensor | H3: 1010052642500 | I3: 8238
B4: =B3+1 -> 2 | C4: I-526 | D4: Cooper River | E4: 21720677 | F4: =HYPERLINK("https://waterdata.usgs.gov/monitoring-location/USGS-0"&E4) -> https://waterdata.usgs.gov/monitoring-location/USGS-021720677 | G4: Camera, streambed sensor | H4: 810052602100 | I4: 8516
B5: =B4+1 -> 3 | C5: I-95 SB | D5: Black Swamp No. 3 | E5: 2135501 | F5: =HYPERLINK("https://waterdata.usgs.gov/monitoring-location/USGS-0"&E5) -> https://waterdata.usgs.gov/monitoring-location/USGS-02135501 | G5: Camera, streambed sensor | H5: 1410009531400 | I5: 5264
B6: =B5+1 -> 4 | C6: I-95 NB | D6: Black Swamp No. 3 | E6: 2135501 | F6: =HYPERLINK("https://waterdata.usgs.gov/monitoring-location/USGS-0"&E6) -> https://waterdata.usgs.gov/monitoring-location/USGS-02135501 | G6: Camera | H6: 1410009511400 | I6: 5255
B7: =B6+1 -> 5 | C7: I-95 SB | D7: Tearcoat Branch | E7: 21355015 | F7: =HYPERLINK("https://waterdata.usgs.gov/monitoring-location/USGS-0"&E7) -> https://waterdata.usgs.gov/monitoring-location/USGS-021355015 | G7: Camera, streambed sensor | H7: 1410009531100 | I7: 4993
B8: =B7+1 -> 6 | C8: I-95 NB | D8: Tearcoat Branch | E8: 21355015 | F8: =HYPERLINK("https://waterdata.usgs.gov/monitoring-location/USGS-0"&E8) -> https://waterdata.usgs.gov/monitoring-location/USGS-021355015 | G8: Camera | H8: 1410009511100 | I8: 4987
B9: =B8+1 -> 7 | C9: US 52/US 17 ALT | D9: Santee Tail Race Canal | E9: 2172002 | F9: =HYPERLINK("https://waterdata.usgs.gov/monitoring-location/USGS-0"&E9) -> https://waterdata.usgs.gov/monitoring-location/USGS-02172002 | G9: Camera, streambed sensor | H9: 820001707600 | I9: 1287
B10: =B9+1 -> 8 | C10: 1-77 SB | D10: Congaree River | E10: 21695075 | F10: =HYPERLINK("https://waterdata.usgs.gov/monitoring-location/USGS-0"&E10) -> https://waterdata.usgs.gov/monitoring-location/USGS-021695075 | G10: Camera, streambed sensor | H10: 3210007730500 | I10: 7917
B11: =B10+1 -> 9 | C11: I-77 NB | D11: Congaree River | E11: 21695075 | F11: =HYPERLINK("https://waterdata.usgs.gov/monitoring-location/USGS-0"&E11) -> https://waterdata.usgs.gov/monitoring-location/USGS-021695075 | G11: Camera, streambed sensor | H11: 3210007710500 | I11: 7913
B12: =B11+1 -> 10 | C12: I-95 SB | D12: Great Pee Dee River | E12: 2130810 | F12: =HYPERLINK("https://waterdata.usgs.gov/monitoring-location/USGS-0"&E12) -> https://waterdata.usgs.gov/monitoring-location/USGS-02130810 | G12: Camera, streambed sensor | H12: 2110009531600 | I12: 5051
B13: =B12+1 -> 11 | C13: I-95 NB | D13: Great Pee Dee River | E13: 2130810 | F13: =HYPERLINK("https://waterdata.usgs.gov/monitoring-location/USGS-0"&E13) -> https://waterdata.usgs.gov/monitoring-location/USGS-02130810 | G13: Camera | H13: 2110009511600 | I13: 5045
B14: =B13+1 -> 12 | C14: I-95 SB | D14: Lynches River | E14: 2131510 | F14: =HYPERLINK("https://waterdata.usgs.gov/monitoring-location/USGS-0"&E14) -> https://waterdata.usgs.gov/monitoring-location/USGS-02131510 | G14: Camera, streambed sensor | H14: 2110009530100 | I14: 5046
B15: =B14+1 -> 13 | C15: I-95 NB | D15: Lynches River | E15: 2131510 | F15: =HYPERLINK("https://waterdata.usgs.gov/monitoring-location/USGS-0"&E15) -> https://waterdata.usgs.gov/monitoring-location/USGS-02131510 | G15: Camera | H15: 2110009510100 | I15: 5040
... B28: =B27+1 -> 26 | C28: Whaley St | D28: Rocky Branch | E28: 2169506 | F28: =HYPERLINK("https://waterdata.usgs.gov/monitoring-location/USGS-0"&E28) -> https://waterdata.usgs.gov/monitoring-location/USGS-02169506 | G28: Camera | H28: 4090045400100 | I28: 72
B29: =B28+1 -> 27 | C29: N. Marlboro St | D29: Crooked Creek | E29: 21305805 | F29: =HYPERLINK("https://apps.usgs.gov/hivis/camera/SC_CROOKED_CREEK_BELOW_N_MARLBORO_ST_AT_BENNETTSVILLE") -> https://apps.usgs.gov/hivis/camera/SC_CROOKED_CREEK_BELOW_N_MARLBORO_ST_AT_BENNETTSVILLE | G29: Camera | H29: 3570002600100 | I29: 8904
B30: =B29+1 -> 28 | C30: US 17 | D30: Pee Dee River | E30: 2136350 | F30: =HYPERLINK("https://waterdata.usgs.gov/monitoring-location/USGS-0"&E30) -> https://waterdata.usgs.gov/monitoring-location/USGS-02136350 | G30: Camera | H30: 2220001700500 | I30: 5061

Sheet Bridge Closure Contacts
A2: District: | B2: 1 | C2: 2 | D2: 3 | E2: 4 | F2: 5 | G2: 6 | H2: 7
B3: District Bridge Engineer | C3: District Bridge Engineer | D3: District Bridge Engineer | E3: District Bridge Engineer | F3: District Bridge Engineer | G3: District Bridge Engineer | H3: District Bridge Engineer
B4: District Maintenance Engineer | C4: District Maintenance Engineer | D4: District Maintenance Engineer | E4: District Maintenance Engineer | F4: District Maintenance Engineer | G4: District Maintenance Engineer | H4: District Maintenance Engineer
B5: Asst. District Maintenance Engineer | C5: Asst. District Maintenance Engineer | D5: Asst. District Maintenance Engineer | E5: Asst. District Maintenance Engineer | F5: Asst. District Maintenance Engineer | G5: District Bridge Inspection Supervisor | H5: Asst. District Maintenance Engineer
B6: District Bridge Inspection Supervisor | C6: District Bridge Inspection Supervisor | D6: District Bridge Inspection Supervisor | E6: District Bridge Inspection Supervisor | F6: District Bridge Inspection Supervisor | G6: Resident Maintenance Engineer | H6: District Bridge Inspection Supervisor
B7: Resident Maintenance Engineer | C7: Resident Maintenance Engineer | D7: Resident Maintenance Engineer | E7: Resident Maintenance Engineer | F7: Resident Maintenance Engineer | H7: Resident Maintenance Engineer

Sheet Dropdown Data
A1: Cell | B1: E34 | C1: E35 | D1: E36 | E1: E37 | H1: A9 | I1: A11 | J1: G11 | M1: A102 | N1: A103 | O1: A104 | P1: A105 | Q1: F102 | R1: F103 | S1: H104 | U1: G12 | X1: A14 | Y1: Functional Class
A2: Option 1 | B2: Yes | C2: Yes | D2: Yes | E2: Yes | H2: Culvert | I2: Known | J2: Yes | M2: X | N2: X | O2: X | P2: X | Q2: X | R2: X | S2: X | U2: Piedmont | X2: Spread Footing | Y2: Interstate/Evacuation/Resiliency
A3: Option 2 | B3: No | C3: No | D3: No | E3: No | H3: Bridge | I3: Unknown | J3: No | U3: Coastal Plain | X3: Drilled Shaft | Y3: US
A4: Option 3 | E4: Recommended | J4: Rock | X4: Driven Piles | Y4: SC
X5: Other | Y5: S-
K6: D77/D85 | Y6: L-
A7: Cell | B7: G53 | C7: I53 | D7: C59 | E7: E61 | F7: G61 | G7: I61 | K7: 1 | N7: Flow | O7: Rainfall | P7: Initial Visit | Q7: Interval | S7: 1 | V7: Onsite
A8: Option 1 | B8: 30 Min | C8: Daily | D8: Visual | E8: 1 Hr | F8: No | G8: Daily | K8: 2 | N8: 1% AEP | O8: 0.2% AEP | P8: ASAP | Q8: 4 Hrs | S8: 2 | V8: Remote
A9: Option 2 | B9: 1 Hr | C9: Weekly | D9: Instrument | E9: 3 Hrs | F9: Yes, Within ___ days | G9: Weekly | K9: 3 | N9: 2% AEP | O9: 1% AEP | P9: 6 Hrs | Q9: 6 Hrs | S9: 3
A10: Option 3 | B10: 6 Hrs | C10: Monthly | E10: 6 Hrs | G10: Monthly | K10: 4 | N10: 4% AEP | P10: 8 Hrs | Q10: 8 Hrs | S10: 4
A11: Option 4 | B11: 12 Hrs | C11: Other | E11: Other | G11: Other | K11: 5 | P11: 10 Hrs | S11: 5
A12: Option 5 | B12: Other | K12: 6 | P12: 12 Hrs | S12: 6
K13: 7 | P13: 18 Hrs | S13: 7
F14: Countermeasures | K14: 8 | P14: 48 Hrs
F15: Bendway Weir | K15: 9 | P15: 72 Hrs
F16: Crutch Bents | K16: 10 | P16: 96 Hrs
F17: Gabion Protection | K17: 11
F18: Guidebanks | K18: 12
C19: Location Type | F19: Relief Structure | K19: 13
C20: Type 1 | F20: Riprap Protection | K20: 14
C21: Type 2 | K21: 15
K22: 16
K23: 17
K24: 18
K25: 19
K26: 20
K27: 21
K28: 22
K29: 23
K30: 24
